BEGIN:VCALENDAR
VERSION:2.0
PRODID:skolkovo.ru
X-WR-CALNAME:Преимущества и недостатки виртуа
 льных команд
X-WR-TIMEZONE:Europe/Moscow
BEGIN:VTIMEZONE
TZID:Europe/Moscow
X-LIC-LOCATION:Europe/Moscow
END:VTIMEZONE
BEGIN:VEVENT
UID:69eb955ce15f6
DTSTART:20211012T160000Z
SEQUENCE:0
TRANSP:OPAQUE
DTEND:20211012T173000Z
LOCATION:YouTube-трансляция
SUMMARY:Преимущества и недостатки виртуальн
 ых команд
CLASS:PUBLIC
DESCRIPTION:Вебинар\nПреимущества и недостатк
 и виртуальных команд\n
ORGANIZER;CN=СКОЛКОВО:MAILTO:info@skolkovo.ru
DTSTAMP:20260424T160756Z
END:VEVENT
END:VCALENDAR