BEGIN:VCALENDAR
VERSION:2.0
PRODID:skolkovo.ru
X-WR-CALNAME:Вечер программы FLOW: Female Leaders Opportuniti
 es and Wholeness
X-WR-TIMEZONE:Europe/Moscow
BEGIN:VTIMEZONE
TZID:Europe/Moscow
X-LIC-LOCATION:Europe/Moscow
END:VTIMEZONE
BEGIN:VEVENT
UID:69e8f1015ab41
DTSTART:20211007T160000Z
SEQUENCE:0
TRANSP:OPAQUE
DTEND:20211007T173000Z
LOCATION:Lotte Hotel\, Новинский бульвар 8\, стр. 2
SUMMARY:Вечер программы FLOW: Female Leaders Opportunities an
 d Wholeness
CLASS:PUBLIC
DESCRIPTION:Презентация программы\nВечер прог
 раммы FLOW: Female Leaders Opportunities and Wholeness\n
ORGANIZER;CN=СКОЛКОВО:MAILTO:info@skolkovo.ru
DTSTAMP:20260422T160209Z
END:VEVENT
END:VCALENDAR