BEGIN:VCALENDAR
VERSION:2.0
PRODID:skolkovo.ru
X-WR-CALNAME:День открытых дверей в формате он
 лайн
X-WR-TIMEZONE:Europe/Moscow
BEGIN:VTIMEZONE
TZID:Europe/Moscow
X-LIC-LOCATION:Europe/Moscow
END:VTIMEZONE
BEGIN:VEVENT
UID:69eb533786dfe
DTSTART:20211030T080000Z
SEQUENCE:0
TRANSP:OPAQUE
DTEND:20211030T094500Z
LOCATION:онлайн
SUMMARY:День открытых дверей в формате онлай
 н
CLASS:PUBLIC
DESCRIPTION:Мероприятие\nДень открытых дверей 
 в формате онлайн\n
ORGANIZER;CN=СКОЛКОВО:MAILTO:info@skolkovo.ru
DTSTAMP:20260424T112543Z
END:VEVENT
END:VCALENDAR