BEGIN:VCALENDAR
VERSION:2.0
PRODID:skolkovo.ru
X-WR-CALNAME:Бизнес-завтрак women only
X-WR-TIMEZONE:Europe/Moscow
BEGIN:VTIMEZONE
TZID:Europe/Moscow
X-LIC-LOCATION:Europe/Moscow
END:VTIMEZONE
BEGIN:VEVENT
UID:69e8f1186442b
DTSTART:20211019T070000Z
SEQUENCE:0
TRANSP:OPAQUE
DTEND:20211019T093000Z
LOCATION:Lotte Hotel\, Новинский бульвар 8\, стр. 2
SUMMARY:Бизнес-завтрак women only
CLASS:PUBLIC
DESCRIPTION:Презентация программы\nБизнес-зав
 трак women only\n
ORGANIZER;CN=СКОЛКОВО:MAILTO:info@skolkovo.ru
DTSTAMP:20260422T160232Z
END:VEVENT
END:VCALENDAR