BEGIN:VCALENDAR
VERSION:2.0
PRODID:skolkovo.ru
X-WR-CALNAME:Экспортеры 2.0
X-WR-TIMEZONE:Europe/Moscow
BEGIN:VTIMEZONE
TZID:Europe/Moscow
X-LIC-LOCATION:Europe/Moscow
END:VTIMEZONE
BEGIN:VEVENT
UID:69e9533e6bf95
DTSTART:20260720T060000Z
SEQUENCE:0
TRANSP:OPAQUE
DTEND:20261129T210000Z
SUMMARY:Экспортеры 2.0
CLASS:PUBLIC
DESCRIPTION:Образовательная программа\nЭкспор
 теры 2.0\n
ORGANIZER;CN=СКОЛКОВО:MAILTO:info@skolkovo.ru
DTSTAMP:20260422T230118Z
END:VEVENT
END:VCALENDAR