BEGIN:VCALENDAR
VERSION:2.0
PRODID:skolkovo.ru
X-WR-CALNAME:Вакцинирован по собственному жел
 анию: как мы делаем осознанный выбор?
X-WR-TIMEZONE:Europe/Moscow
BEGIN:VTIMEZONE
TZID:Europe/Moscow
X-LIC-LOCATION:Europe/Moscow
END:VTIMEZONE
BEGIN:VEVENT
UID:69e8ecd1086fa
DTSTART:20211213T100000Z
SEQUENCE:0
TRANSP:OPAQUE
DTEND:20211213T160000Z
SUMMARY:Вакцинирован по собственному желани
 ю: как мы делаем осознанный выбор?
CLASS:PUBLIC
DESCRIPTION:Дискуссия\nВакцинирован по собств
 енному желанию: как мы делаем осознанный
  выбор?\n
ORGANIZER;CN=СКОЛКОВО:MAILTO:info@skolkovo.ru
DTSTAMP:20260422T154417Z
END:VEVENT
END:VCALENDAR