BEGIN:VCALENDAR
VERSION:2.0
PRODID:skolkovo.ru
X-WR-CALNAME:Бизнес-завтрак программы FLOW
X-WR-TIMEZONE:Europe/Moscow
BEGIN:VTIMEZONE
TZID:Europe/Moscow
X-LIC-LOCATION:Europe/Moscow
END:VTIMEZONE
BEGIN:VEVENT
UID:69e8f155c32a9
DTSTART:20220216T063000Z
SEQUENCE:0
TRANSP:OPAQUE
DTEND:20220216T093000Z
LOCATION:Lotte Hotel Новинский бульвар\, 8\, стр. 2
SUMMARY:Бизнес-завтрак программы FLOW
CLASS:PUBLIC
DESCRIPTION:Бизнес-завтрак\nБизнес-завтрак про
 граммы FLOW\n
ORGANIZER;CN=СКОЛКОВО:MAILTO:info@skolkovo.ru
DTSTAMP:20260422T160333Z
END:VEVENT
END:VCALENDAR